BEGIN:VCALENDAR
VERSION:2.0
PRODID:-//Forest Hill T-Ball Association - ECPv6.15.20//NONSGML v1.0//EN
CALSCALE:GREGORIAN
METHOD:PUBLISH
X-WR-CALNAME:Forest Hill T-Ball Association
X-ORIGINAL-URL:https://foresthilltball.com
X-WR-CALDESC:Events for Forest Hill T-Ball Association
REFRESH-INTERVAL;VALUE=DURATION:PT1H
X-Robots-Tag:noindex
X-PUBLISHED-TTL:PT1H
BEGIN:VTIMEZONE
TZID:UTC
BEGIN:STANDARD
TZOFFSETFROM:+0000
TZOFFSETTO:+0000
TZNAME:UTC
DTSTART:20250101T000000
END:STANDARD
END:VTIMEZONE
BEGIN:VEVENT
DTSTART;TZID=UTC:20260425T100000
DTEND;TZID=UTC:20260425T150000
DTSTAMP:20260422T221647
CREATED:20250203T013743Z
LAST-MODIFIED:20260417T170241Z
UID:410-1777111200-1777129200@foresthilltball.com
SUMMARY:Coaches Clinic
DESCRIPTION:
URL:https://foresthilltball.com/event/coaches-clinic/
LOCATION:Forest Heights Community Centre\, 1700 Queens Blvd.\, Kitchener\, Ontario\, N2N 3L6\, Canada
END:VEVENT
END:VCALENDAR